BEGIN:VCALENDAR
VERSION:2.0
PRODID:-//Dr. Keri Brown, ND - ECPv6.15.20//NONSGML v1.0//EN
CALSCALE:GREGORIAN
METHOD:PUBLISH
X-WR-CALNAME:Dr. Keri Brown, ND
X-ORIGINAL-URL:https://www.drkeribrown.com
X-WR-CALDESC:Events for Dr. Keri Brown, ND
REFRESH-INTERVAL;VALUE=DURATION:PT1H
X-Robots-Tag:noindex
X-PUBLISHED-TTL:PT1H
BEGIN:VTIMEZONE
TZID:UTC
BEGIN:STANDARD
TZOFFSETFROM:+0000
TZOFFSETTO:+0000
TZNAME:UTC
DTSTART:20150101T000000
END:STANDARD
END:VTIMEZONE
BEGIN:VEVENT
DTSTART;TZID=UTC:20250418T040000
DTEND;TZID=UTC:20250418T173000
DTSTAMP:20260423T215507
CREATED:20250406T173531Z
LAST-MODIFIED:20250406T174659Z
UID:31735-1744948800-1744997400@www.drkeribrown.com
SUMMARY:Blood Sugar Reset Intro Course
DESCRIPTION:90-Minute Masterclass: Reset Your Blood Sugar Naturally in Just 10 Days\nJoin Dr. Keri Brown\, ND\, for a deep dive into her robust 10-Day Blood Sugar Detox Program— in Blood Sugar Reset Intro Course a natural\, whole-body approach to reclaiming energy\, balancing glucose\, and preventing long-term chronic illness. This is a Blood Sugar Detox Course Introduction Program. \n\nWhat You’ll Learn in This 90-Minute Masterclass:\n\n\nThe 6-Step Protocol used in the 10-Day Detox to lower A1C\, reduce glucose spikes and support long-term health \n\n\nHow blood sugar imbalances contribute to fatigue\, brain fog\, weight gain\, and hormone issues \n\n\nThe exact foods to eat and avoid during the detox (including sample meal ideas) \n\n\nMy top supplement and lifestyle strategies to support insulin sensitivity and detoxification \n\n\nHow to personalize the program based on your health goals\, age\, and activity level \n\n\nWhat to expect during the 10 days—including common detox symptoms and how to support your body through them \n\n\nReal-life case studies and transformations from past participants \n\n\n\nWho This Is For:\n\n\nYou struggle with blood sugar crashes\, cravings\, or weight loss resistance \n\n\nYou’ve been told you’re prediabetic or want to prevent chronic conditions naturally \n\n\nYou’re a holistic health lover looking to detox at a cellular level \n\n\nYou’re curious about my full 10-Day Program and want to know if it’s right for you \n\n\n\nBonus for Attendees that Blood Sugar Reset Intro Course \nEveryone who attends live will receive: \n\n\nA free copy of the “Blood Sugar Reset Cheat Sheet” \n\n\nAn exclusive early bird offer to join the 10-Day Detox Program \n\n\nA live Q&A with Dr. Keri to get your personal questions answered \n\n\n\nRegister Now\nSpace is limited. Replay is available for those who register.
URL:https://www.drkeribrown.com/event/blood-sugar-reset-intro-course/
LOCATION:Online Zoom
CATEGORIES:Blood sugar balancing,Courses
ATTACH;FMTTYPE=image/jpeg:https://www.drkeribrown.com/wp-content/uploads/2022/10/Program10-Day-blood-sugar-p.jpg
END:VEVENT
BEGIN:VEVENT
DTSTART;TZID=UTC:20181213T173000
DTEND;TZID=UTC:20181213T183000
DTSTAMP:20260423T215507
CREATED:20181213T180112Z
LAST-MODIFIED:20181213T180112Z
UID:18012-1544722200-1544725800@www.drkeribrown.com
SUMMARY:Medical Use of Kitchen Herbs
DESCRIPTION:
URL:https://www.drkeribrown.com/event/medical-use-of-kitchen-herbs/
END:VEVENT
BEGIN:VEVENT
DTSTART;VALUE=DATE:20181117
DTEND;VALUE=DATE:20181118
DTSTAMP:20260423T215507
CREATED:20180331T020506Z
LAST-MODIFIED:20250406T174546Z
UID:17368-1542412800-1542499199@www.drkeribrown.com
SUMMARY:Physical Observation for Nutritional Deficiencies
DESCRIPTION:Physical Observation for Nutritional Deficiencies by Dr. Keri Brown\, ND\nTherapeutic Assessment of Sub-Clinical Symptoms and Organ Health\nLearning how to observe physical features can help you determine nutritional deficiency patterns and health needs prior to disease occurring. This information is imperative in today’s health care and in the “sub-clinical” patient\, before disease progresses to outright symptoms and blood work changes. \nTraditional doctors used physical observations of our body to confirm our health issues. They did not and could not relay on testing or blood work. Physical observations enable you to take the guess work out of nutritional deficiencies and organ health patterns. \nThis class insures a measurement of patient evaluation as a critical tool in your medical toolbox. If pre-and post-nutritional evaluations and sound patient observations are added\, the practitioner can confirm the findings while creating a recordable and even visual benchmark for patients to see the change and progress. \nThis approach heightens the practitioner’s ability to identify root causes\, target priorities\, and integrated patient interaction\, while improving understanding\, retention and compliance. Using functional assessments of the digestion system\, thyroid\, adrenals\, and more\, the health and direction of care becomes more obvious to see\, treat\, and monitor. \nWhile correlating specific observations and testing procedures\, you can determine organ health\, utilization of nutritional factors\, and what direction is best for your client. We will look at our tongue\, face\, nails\, reflexes points\, and simple office testing procedures to determine how to help our patients through physical observations for nutritional deficiencies. \n 
URL:https://www.drkeribrown.com/event/observation-for-nutritional-deficiencies-2/
LOCATION:Bastyr Universtiy\, 14500 Juanita Dr. NE\, Kenmore \, Washington\, 98028
CATEGORIES:Courses
ATTACH;FMTTYPE=image/jpeg:https://www.drkeribrown.com/wp-content/uploads/2022/03/pexels-photo-5938391-e1710105223521.jpeg
END:VEVENT
BEGIN:VEVENT
DTSTART;TZID=UTC:20181103T220000
DTEND;TZID=UTC:20181103T220000
DTSTAMP:20260423T215507
CREATED:20180725T203839Z
LAST-MODIFIED:20200324T194204Z
UID:17928-1541282400-1541282400@www.drkeribrown.com
SUMMARY:Animal Homeopathic First Aid Class
DESCRIPTION:Homeopathic First Aid for Animals\nBeyond the Band-Aid – From Paw to Tail\nwith Dr. Keri Brown\, N.D. \nFocusing on the health care of animals\, this highly informative seminar will describe the most effective homeopathic first aid remedies that are used to reduce pain and help animals heal. This seminar is designed to teach health independence in the most effective use of homeopathy that go far beyond bandaging. \nUsed for animals and people\, these remedies can significantly help relieve distress and discomfort as a result from injuries. \n  \nRegister for the Class  \nOver 25 first aid and health conditions can be addressed using these remedies. From car accidents to food poisoning\, puncture wounds and snakebites\, sprains too paw trauma\, they can be used safely on an array of symptoms. \nDogs\, cats\, goats\, horses\, birds to hamsters can all benefit from the use of these remedies that are inexpensive\, nontoxic\, and safe. \nWe will describe a wide range of issues that can be helped by reducing complications thereby increasing animal playtime. \nThis workshop is more than just a glance at natural medicine; it is designed to help participants bring about quick healing – naturally and safely to those who are injuries at home\, at work\, on the farm; on the highway… anywhere an accident occurs. \n  \nOBJECTIVES: \n\nIdentify the homeopathic remedies that are used in first aid situations.\nDescribe the use and safety of these remedies in animals.\nDiscuss the specifics of accidents and how to help reduce pain and increase healing.\nKnowledge on constructing a natural first aid medical kit for trauma.\n\n  \nRegister for the Class  \nAttendees will learn to how to work with:  \n\nSymptoms\, complications\, and alternative treatments for a variety of accidents.\nSpecific symptom relief concerning infection\, pain\, shock\, swelling\, and systemic symptoms.\nConfidence in assessing first aid issues.\nRapid respond time in using Homeopathic First Aid for Animals.\n\nBy the end of the seminar\, participants will have the knowledge to provide effective care to those who need it immediately\, be it animal or person. \nThe injuries covered range from animal bites including dog\, cat\, tick\, rattle snake and wild animal\, allergic reactions\, abrasions\, tick bites\, bruises\, infections\, nerve pain\, puncture wounds\, shock\, sport injuries and much more. \nUnderstanding this comprehensive homeopathic approach to first aid care can provide immediate support in the field\, at home or on your way for extended care. \n  \nExperience and knowledge are the best tools to carry with you. \nLearning this material prior to needing it takes time and repetition. It starts with your medical options\, what is in your first aid kit and practical knowledge. \nThe goal is having enough information on your finger tips to treatment yourself\, your family\, clients\, and animal friends so they can heal with less pain\, discomfort and in shorter time. \n  \nCome and learn with us. \nRegister for the Class  \nPlease fill out the class registration in the shop or contact us at admin@drkeribrown.com or at 970-889-3541 \n  \nAbout Dr. Keri Brown’s\, N.D. \nDr. Keri Brown\, N.D. is a licensed naturopathic doctor and educator with a remarkable medical tool bag of proven and effective approaches to holistic health care. She has practiced naturopathic medicine since 1998 after received a B.Sc. in Environmental Biology and Chemistry and a Doctorate in Naturopathic Medicine from Bastyr University. Her visionary and creative career background includes: environmental biologist\, forest hydrologist\, medical herbalist\, teacher\, renewable energy specialist\, author\, national speaker\, doctor\, and entrepreneur. Keri is a co-founder of Vermont’s largest non-profit integrative health clinic; the creator of Natural Healing Kits® for people and animals; the originator of Opis Designs Wrist Warmers\, and Wide-Awake Wellness – providing holistic health seminars on healing naturally. Keri lives in Colorado with her dog\, Rosebuds. \n  \nRegister for the Class  \n  \n  \n 
URL:https://www.drkeribrown.com/event/animal-homeopathic-first-aid-class/
LOCATION:Marty’s Meals\, 2750 Glenwood Dr.\, Boulder\, CO\, 80304\, United States
CATEGORIES:Animal Natural Health Care
ORGANIZER;CN="Sabrina Platt":MAILTO:sabrina@martysmeals.com
END:VEVENT
BEGIN:VEVENT
DTSTART;VALUE=DATE:20180224
DTEND;VALUE=DATE:20180225
DTSTAMP:20260423T215507
CREATED:20180113T180016Z
LAST-MODIFIED:20180113T180016Z
UID:17313-1519430400-1519516799@www.drkeribrown.com
SUMMARY:Physical Observation for Nutritional Deficiencies - Bastyr University
DESCRIPTION:Physical Observation for Nutritional Deficiencies\n– Therapeutic Assessment of Sub-Clinical Symptoms and Organ Health\nDr. Keri Brown\, ND\nTallas Health\, Colorado 80301\, USA \nPhysical Observation for Nutritional Deficiencies: Learning how to observe physical features can help you determine nutritional deficiency patterns and health needs prior to disease occurring. This information is imperative in today’s health care and in the “sub-clinical” patient\, before disease progresses to outright symptoms and blood work changes. \nTraditional doctors used physical observations of our body to confirm our health issues. They did not and could not relay on testing or blood work. Physical observations enable you to take the guess work out of nutritional deficiencies and organ health patterns. \nThis class insures a measurement of patient evaluation as a critical tool in your medical toolbox. If pre-and post-nutritional evaluations and sound patient observations are added\, the practitioner can confirm the findings while creating a recordable and even visual benchmark for patients to see the change and progress. \nThis approach heightens the practitioner’s ability to identify root causes\, target priorities\, and integrated patient interaction\, while improving understanding\, retention and compliance. Using functional assessments of the digestion system\, thyroid\, adrenals\, and more\, the health and direction of care becomes more obvious to see\, treat\, and monitor. \nWhile correlating specific observations and testing procedures\, you can determine organ health\, utilization of nutritional factors\, and what direction is best for your client. We will look at our tongue\, face\, nails\, reflexes points\, and simple office testing procedures to determine how to help our patients through physical observations for nutritional deficiencies. \nBiography \nDr. Keri Brown received her doctorate (ND) Degree in Naturopathic Medicine from Bastyr University in Seattle\, WA in 1998 and has successfully integrated nutrition\, emotion\, and structural therapeutics into a unique health approach. She is a founding member of Sojourns Non-Profit Community Clinic in VT\, owner of Tallas Heath in CO\, author\, speaker\, and entrepreneur. She focuses on utilizing holistic health information\, cutting edge techniques\, and common sense to support people back to health. For over 30 years\, Dr. Brown has been exploring and integrating the balance of nature\, healing\, science\, and meditation. \nPresenting author details Full name: Dr. Keri Brown\, ND Contact Number: 970-889-3541        Twitter Account: NA Linked In Account: www.linkedin.com/in/Keri–Brown-nd \nSession Name/Number: Physical Observation for Nutritional Deficiencies Category: Oral Presentation\, workshops
URL:https://www.drkeribrown.com/event/physical-observation-for-nutritional-deficiencies-bastyr-university/
LOCATION:Bastyr Universtiy\, 14500 Juanita Dr. NE\, Kenmore \, Washington\, 98028
CATEGORIES:Alternative medicine,Continuing educational credits,health programs,Nutrititional health,Preventive Medicine,professional speaker
ATTACH;FMTTYPE=image/jpeg:https://www.drkeribrown.com/wp-content/uploads/2016/08/JMS.-before-1.jpg
ORGANIZER;CN="Susan":MAILTO:continuinged@bastyr.edu 
END:VEVENT
BEGIN:VEVENT
DTSTART;TZID=UTC:20180119T090000
DTEND;TZID=UTC:20180119T170000
DTSTAMP:20260423T215507
CREATED:20170408T002355Z
LAST-MODIFIED:20180113T173630Z
UID:16996-1516352400-1516381200@www.drkeribrown.com
SUMMARY:Physical Observation for Nutritional Deficiencies
DESCRIPTION:Physical Observations for Nutritional Deficiencies with Dr. Keri Brown\, ND \n“Detailed\, connected\, relevant\, preventive information to assist in optimizing the healing process. Done in a safe\, upbeat\, compassionate setting. a little bit of heaven in a world far too busy.” Christina Pollack (Mastocytosis Convention) \n“ Dr. Keri Brown combines a vast comprehensive of health with working application of what it takes for the individual to best participate in the process of health and its maintenance.” Kati Pressman\, Boulder\, CO \nLearning how to observe physical features can help you determine your own or your clients’ nutritional deficiency patterns and needs. \nWhile correlating specific observations and testing procedures\, you can determine your health\, your utilization of nutritional factors and what focus is best for you or your client. \nWe will look at our tongue\, face\, nails and more while we determining how to help our bodies through specific physical observations! \nOur body’s show us and can tell us what it needs if we know the signs. Old traditional and country doctors used physical observations of our body to confirm our health issues. They did not and could not relay on expensive testing or blood work. \nThese are old familiar ways of looking at our body and our health. Very few doctors in today’s age learn these signs and correlated symptoms. \nPlease bring a mirror if you have one to look at your own tongue\, eyes\, and face. \nWhat participant will learn? \n\nFunctional evaluation of the body and organs\nPhysical observations for health concerns\nHow the body relates to our thoughts\nHow our nails reflex our health\nTongue analysis for heart\, spleen and thyroid\nPhysical pain and organ relationships\nWhat the face and eyes can tells us\nHealth and adjustments of the ileocecal value\nChapman reflexes for organ health and therapy\n\nCHECKLIST OF TOOLS Signs and Symptoms of the Body? \n\nNail\, tongue\, and face assessment\nFunctional evaluation of the digestive system\nFunctional evaluation of sugar handling\nEvaluation of the adrenal glands\nSystem survey form evaluation\nTissue calcium pressure test\nVertebral indicators for organ health\nOrgan relationships and our organs\nMeridian organ clock assessment\nPoints of assessment for optimal health
URL:https://www.drkeribrown.com/event/physical-observation-for-nutritional-deficiencies/
LOCATION:Nutritional Therapy Institute\, 1500 York Street\, Suite 204\, Denver \, Colorado\, 80206
CATEGORIES:Alternative medicine,Blood sugar balancing,Continuing educational credits,health programs,Nutrititional health,Preventive Medicine,professional speaker
END:VEVENT
BEGIN:VEVENT
DTSTART;TZID=UTC:20170919T174500
DTEND;TZID=UTC:20170919T193000
DTSTAMP:20260423T215507
CREATED:20170829T030313Z
LAST-MODIFIED:20170829T030733Z
UID:17302-1505843100-1505849400@www.drkeribrown.com
SUMMARY:21-Day Purification and Weight Loss Program
DESCRIPTION:With over one third of the US adult population (33.8%) ranked in the obese category\, proper and lasting weight loss is a goal on the minds of many Americans. What most people do not understand is that successful weight loss is often determined by an individual’s ability to clear toxins and cellular waste from the body. We are exposed to everyday toxins\, like pollutants\, pesticides and chemicals in our processed foods\, cleaning and skin care products…and our medicine. The Centers for Disease Control and Prevention report that hundreds of manmade chemicals are present in our bodies\, contributing to disruptions in our immune\, endocrine\, nervous and reproductive systems. \nAs an individual’s toxic burden increases with excess weight\, adverse metabolic effects on blood pressure\, cholesterol\, triglycerides and insulin resistance (leading to Diabetes) may arise. Our own bodies even produce waste byproducts as a result of normal function. \nAlthough our bodies are designed to rid itself of these toxins naturally\, processes can become overburdened\, allowing for the recirculation of harmful cellular waste and excess hormones. The primary organs responsible for excretion functions are the small intestines\, colon\, kidneys and liver. \nTallas Health and Dr. Keri Brown\, ND will be hosting public lectures (donations) on the proper methods of detoxification and associated weight loss on Tuesday September 19 at 5:54. The lecture will be held in Gunbarrel. A 21-day program used to stimulate specific detoxification of internal organs will be presented\, as well as useful diet and lifestyle modifications. Come join Dr. Keri Brown\, RND and make 2017 a great year to achieve personal health goals. \nFor further information or to reserve your seat\, contact TallasHealth.com at 970-889-3541 or email admin@drkeribrown.com.
URL:https://www.drkeribrown.com/event/weight-loss-and-detoxification-go-hand-in-hand/
LOCATION:Boulder\, Colorado\, 80301
CATEGORIES:Preventive Medicine,weight loss program
ATTACH;FMTTYPE=image/jpeg:https://www.drkeribrown.com/wp-content/uploads/2014/03/JMS.Clothes-comparison_2n.jpg
END:VEVENT
BEGIN:VEVENT
DTSTART;TZID=UTC:20160612T000000
DTEND;TZID=UTC:20160612T133000
DTSTAMP:20260423T215508
CREATED:20160601T232851Z
LAST-MODIFIED:20160601T233002Z
UID:16179-1465689600-1465738200@www.drkeribrown.com
SUMMARY:Blood Sugar Blues: Why is blood sugar so important?
DESCRIPTION:Why is Blood Sugar so\nImportant? \nDo I have Symptoms of Unbalanced Blood Sugar? \nYou’re Invited…Come learn why maintaining a controlled blood sugar level is imperative for your optimal health. Even if you have not been diagnosed with having blood sugar issues\, hypoglycemia or diabetes\, blood sugar levels that are\nconsistently unbalanced can have detrimental effects on your body. \nEating at proper times and adjusting ones diet is only part of the equation. Is a 10-Day Blood Sugar\nProgram right for you? \nThe Solution… \nTo register  host your own workshop\, or to meet one on one please contact Dr. Keri Brown\, ND @ 970-889-3541  \nadmin@drkeribrown.com\, \n 
URL:https://www.drkeribrown.com/event/blood-sugar-blues-why-is-blood-sugar-so-important/
LOCATION:Alfalfa’s\, South Boulder Rd & Centennial\, Louisville\, CO\, 80027\, United States
CATEGORIES:Blood sugar balancing,health programs,Preventive Medicine
ORGANIZER;CN="Ruth":MAILTO:admin@drkeribrown.com
END:VEVENT
BEGIN:VEVENT
DTSTART;TZID=UTC:20160609T173000
DTEND;TZID=UTC:20160609T183000
DTSTAMP:20260423T215508
CREATED:20160513T224916Z
LAST-MODIFIED:20160513T225153Z
UID:16169-1465493400-1465497000@www.drkeribrown.com
SUMMARY:The Art of Kitchen Medicine: Home Doctoring from the Kitchen
DESCRIPTION:The Exploration of Kitchen Medicine – Home Doctoring from the Kitchen   \n\n With the growing concerns about the harmful side effects of drugs\, many of us are looking for safe and effective alternatives for treating illness.\nSome illness can be treated safely in the home using a variety of natural preparations directly out of the kitchen.\nFruits and vegetables in the cupboard have many medical properties and use.\nFrom baking soda to cucumbers\, onion poultices to apple cider vinegar\, these remedies have been used in home doctoring for centuries to provide relief\, enhance immunity and more.
URL:https://www.drkeribrown.com/event/the-art-of-kitchen-medicine-home-doctoring-from-the-kitchen/
LOCATION:Louisville Library\, Old Town Louisville\, Louisville\, 80027\, United States
END:VEVENT
BEGIN:VEVENT
DTSTART;TZID=UTC:20160515T120000
DTEND;TZID=UTC:20160515T133000
DTSTAMP:20260423T215508
CREATED:20160513T214227Z
LAST-MODIFIED:20160513T214227Z
UID:16163-1463313600-1463319000@www.drkeribrown.com
SUMMARY:Physical Observation & Nutritional Deficiencies
DESCRIPTION:Sunday May 15 12-1:30 in the Community Room\nPhysical Observation and Nutritional Deficiencies with Dr. Keri Brown\, ND\nLearn how to observe physical features can help you determine your nutritional deficiency patterns. \nWhile correlating some fun testing procedures we can help you determine your utilization of nutritional supplementation and what focus is best for you. \nWe will look at our tongue\, face\, nails and more while we will have some fun determining how to help our bodies through specific physical observations! Please bring a mirror if you have one to look at your own tongue. \n??????????????\n  \n  \nAbout Dr. Keri Brown’s\, N.D. knowledge and use of integrative medicine comes from years of personal and professional experiences starting in 1984. Professionally trained and licensed as a naturopathic doctor\, she received her Doctorate in Naturopathic Medicine from Bastyr University in Seattle\, WA in 1998. She now blends her knowledge as a doctor\, healer\, medical intuitive and biologist to help us bring a supportive\, whole system approach back to health and healing.
URL:https://www.drkeribrown.com/event/physical-observation-nutritional-deficiencies/
LOCATION:Alfalfa’s\, South Boulder Rd & Centennial\, Louisville\, CO\, 80027\, United States
END:VEVENT
BEGIN:VEVENT
DTSTART;TZID=UTC:20160115T020000
DTEND;TZID=UTC:20160115T150000
DTSTAMP:20260423T215508
CREATED:20160113T015652Z
LAST-MODIFIED:20160113T015652Z
UID:15693-1452823200-1452870000@www.drkeribrown.com
SUMMARY:Physical Observation and Nutritional Deficiencies
DESCRIPTION:
URL:https://www.drkeribrown.com/event/physical-observation-and-nutritional-deficiencies/
LOCATION:Unity Chruch Senior Group\, Boulder
END:VEVENT
END:VCALENDAR